BEGIN:VCALENDAR
VERSION:2.0
PRODID:-//ChamberMaster//Event Calendar 2.0//EN
METHOD:PUBLISH
X-PUBLISHED-TTL:P3D
REFRESH-INTERVAL:P3D
CALSCALE:GREGORIAN
BEGIN:VEVENT
DTSTART:20260429T220000Z
DTEND:20260429T233000Z
X-MICROSOFT-CDO-ALLDAYEVENT:FALSE
SUMMARY:Vineland Historical & Antiquarian Society - VHAS Book Club: "The Pine Barrens" by John McPhee / 4-29-26
DESCRIPTION:Visit the Vineland Historical Society Museum for the April book club!  Free and open to the public. They are reading "The Pine Barrens" by John McPhee.\n\n\n\n"The Pine Barrens" (1968) is a celebrated portrait of the vast 1000-square-mile wilderness nestled in the densely populated state of New Jersey .Although New Jersey has the heaviest population density of any state\, huge segments of the Pine Barrens remain uninhabited. The few people who dwell in the region\, the "Pineys\," are little known and often misunderstood.\n\nJohn McPhee uses his uncanny skills as a journalist to explore the history of the region and describe the people?and their distinctive folklore?who call it home.
X-ALT-DESC;FMTTYPE=text/html:<p><span style="font-size:22px\;">Visit the Vineland Historical Society Museum for the April book club! &nbsp\;Free and open to the public. They are reading &quot\;The Pine Barrens&quot\; by John McPhee.<br />\n<br />\n&ldquo\;The Pine Barrens&rdquo\; (1968) is a celebrated portrait of the vast 1000-square-mile wilderness nestled in the densely populated state of New Jersey .Although New Jersey has the heaviest population density of any state\, huge segments of the Pine Barrens remain uninhabited. The few people who dwell in the region\, the &ldquo\;Pineys\,&rdquo\; are little known and often misunderstood.</span></p>\n\n<p><span style="font-size:22px\;">John McPhee uses his uncanny skills as a journalist to explore the history of the region and describe the people?and their distinctive folklore?who call it home.</span></p>\n
LOCATION:Vineland Historical Society 108 S. Seventh Street Vineland NJ 08360 Plenty of free parking in the lot directly across from the museum
UID:e.2963.21918
SEQUENCE:3
DTSTAMP:20260425T180743Z
URL:https://www.vinelandchamber.org/events/details/vineland-historical-antiquarian-society-vhas-book-club-the-pine-barrens-by-john-mcphee-4-29-26-21918
END:VEVENT

END:VCALENDAR
