BEGIN:VCALENDAR
VERSION:2.0
PRODID:-//ChamberMaster//Event Calendar 2.0//EN
METHOD:PUBLISH
X-PUBLISHED-TTL:P3D
REFRESH-INTERVAL:P3D
CALSCALE:GREGORIAN
BEGIN:VEVENT
DTSTART:20260624T220000Z
DTEND:20260624T233000Z
X-MICROSOFT-CDO-ALLDAYEVENT:FALSE
SUMMARY:Vineland Historical & Antiquarian Society - VHAS Book Club: “The Lantern on the Plow” by George Agnew Chamberlain / 6-24-26
DESCRIPTION:Join the Vineland Historical and Antiquarian Society for its monthly book club. June's book is "The Lantern on the Plow" by George Agnew Chamberlain. \n\n\n\nThe Lantern on the Plow\, set in southern New Jersey\, follows the tribulations and ultimate triumph of the Sherborne family as they struggle to find their way in a changing landscape.\n\n\n\nThe Book Club will meet at the museum and via Zoom to discuss the book.
X-ALT-DESC;FMTTYPE=text/html:<br />\n<span style="font-size:22px\;"><span style="font-family:arial\;">Join the Vineland Historical and Antiquarian Society for its monthly book club.&nbsp\;June&#39\;s book is<em><strong> &ldquo\;The Lantern on the Plow&rdquo\;</strong></em> by George Agnew Chamberlain.&nbsp\;<br />\n<br />\nThe Lantern on the Plow\, set in southern New Jersey\, follows the tribulations and ultimate triumph of the Sherborne family as they struggle to find their way in a changing landscape.<br />\n<br />\nThe Book Club will meet at the museum and via Zoom to discuss the book.</span></span>
LOCATION:Vineland Historical and Antiquarian Society Museum 108 South 7th Street Vineland\, NJ 08360
UID:e.2963.21929
SEQUENCE:3
DTSTAMP:20260421T230454Z
URL:https://www.vinelandchamber.org/events/details/vineland-historical-antiquarian-society-vhas-book-club-the-lantern-on-the-plow-by-george-agnew-chamberlain-6-24-26-21929
END:VEVENT

END:VCALENDAR
