BEGIN:VCALENDAR
VERSION:2.0
PRODID:-//ChamberMaster//Event Calendar 2.0//EN
METHOD:PUBLISH
X-PUBLISHED-TTL:P3D
REFRESH-INTERVAL:P3D
CALSCALE:GREGORIAN
BEGIN:VEVENT
DTSTART:20260527T220000Z
DTEND:20260527T233000Z
X-MICROSOFT-CDO-ALLDAYEVENT:FALSE
SUMMARY:Vineland Historical & Antiquarian Society - VHAS Book Club: "Fighting Back: A Memoir of Jewish Resistance in World War II” by Harold Werner / 5-27-26
DESCRIPTION:May is Jewish American Heritage Month. Join the Vineland Historical and Antiquarian Society for its monthly book club. May's book is "Fighting Back: A Memoir of Jewish Resistance in World War II" by Harold Werner\n\n\n\n"Fighting Back" is more than a tale of survival. It is the extraordinary memoir of a survivor who outlasted Hitler's Holocaust -- not in a concentration camp\, but in the woods of eastern Poland as a leader of successful Jewish resistance during World War II.
X-ALT-DESC;FMTTYPE=text/html:<br />\n<span style="font-size:22px\;"><span style="font-family:arial\;">May is Jewish American Heritage Month.&nbsp\;Join the Vineland Historical and Antiquarian Society for its monthly book club.&nbsp\;May&#39\;s book is <strong><em>&ldquo\;Fighting Back: A Memoir of Jewish Resistance in World War II&rdquo\; </em></strong>by Harold Werner<br />\n<br />\n&ldquo\;Fighting Back&rdquo\; is more than a tale of survival. It is the extraordinary memoir of a survivor who outlasted Hitler&#39\;s Holocaust -- not in a concentration camp\, but in the woods of eastern Poland as a leader of successful Jewish resistance during World War II.</span></span>
LOCATION:Vineland Historical Society Museum 108 S Seventh Street\, Vineland\, NJ 08360 And on Zoom
UID:e.2963.21928
SEQUENCE:3
DTSTAMP:20260421T210040Z
URL:https://www.vinelandchamber.org/events/details/vineland-historical-antiquarian-society-vhas-book-club-fighting-back-a-memoir-of-jewish-resistance-in-world-war-ii-by-harold-werner-5-27-26-21928
END:VEVENT

END:VCALENDAR
