BEGIN:VCALENDAR
VERSION:2.0
PRODID:-//ChamberMaster//Event Calendar 2.0//EN
METHOD:PUBLISH
X-PUBLISHED-TTL:P3D
REFRESH-INTERVAL:P3D
CALSCALE:GREGORIAN
BEGIN:VEVENT
DTSTART:20260425T150000Z
DTEND:20260425T180000Z
X-MICROSOFT-CDO-ALLDAYEVENT:FALSE
SUMMARY:Vineland Historical & Antiquarian Society - The Spirits of Siloam Cemetery Living History Tour / 4-25-26
DESCRIPTION:"Meet" some of Siloam Cemetery's most notable and interesting residents!\n\n\n\nThis immersive and interactive tour will have first-person reenactors.\n\n\n\nTour at your own pace. A guide map will be provided.\n\n\n\nThe Siloam Chapel will be open also!
X-ALT-DESC;FMTTYPE=text/html:<p><br />\n<br />\n<span style="font-size:22px\;"><span style="font-family:arial\;">&ldquo\;Meet&quot\; some of Siloam Cemetery&#39\;s most notable and interesting residents!<br />\n<br />\nThis immersive and interactive tour will have first-person reenactors.<br />\n<br />\nTour at your own pace. A guide map will be provided.<br />\n<br />\nThe Siloam Chapel will be open also!</span></span></p>\n
LOCATION:Siloam Cemetery 550 N Valley Ave\, Vineland\, NJ 08360 Park and start the tour at Charles K. Landis gravesite
UID:e.2963.21919
SEQUENCE:3
DTSTAMP:20260421T082946Z
URL:https://www.vinelandchamber.org/events/details/vineland-historical-antiquarian-society-the-spirits-of-siloam-cemetery-living-history-tour-4-25-26-04-25-2026-21919
END:VEVENT

END:VCALENDAR
