BEGIN:VCALENDAR
VERSION:2.0
PRODID:-//ChamberMaster//Event Calendar 2.0//EN
METHOD:PUBLISH
X-PUBLISHED-TTL:P3D
REFRESH-INTERVAL:P3D
CALSCALE:GREGORIAN
BEGIN:VEVENT
DTSTART:20260417T150000Z
DTEND:20260417T180000Z
X-MICROSOFT-CDO-ALLDAYEVENT:FALSE
SUMMARY:Vineland Historical & Antiquarian Society - Meet and Greet With Dutch-Estonian Filmmaker Helga Merits / 4-17-26
DESCRIPTION:Visit the VHAS Museum Friday\, April 17\, to meet and greet Dutch-Estonian filmmaker Helga Merits and to learn about Helga's current project\,  "Mary Treat: A Love Letter To Nature." \n\nHelga has been visiting the United States since late March to attend screenings of her documentary "The Paradox Of Seabrook Farms\," which was shown April 12 at the Landis Theater.
X-ALT-DESC;FMTTYPE=text/html:<p><span style="font-size:24px\;"><span style="font-family:arial\;">Visit the VHAS Museum Friday\, April 17\, to meet and greet Dutch-Estonian filmmaker Helga Merits and to learn about Helga&rsquo\;s current project\, &nbsp\;&ldquo\;Mary Treat: A Love Letter To Nature.&rdquo\;&nbsp\;</span></span></p>\n\n<p><span style="font-size:24px\;"><span style="font-family:arial\;">Helga has been visiting the United States since late March to attend screenings of her documentary &ldquo\;The Paradox Of Seabrook Farms\,&rdquo\; which was shown April 12 at the Landis Theater. &nbsp\;</span></span></p>\n\n<p>&nbsp\;</p>\n\n<p><br />\n&nbsp\;</p>\n
LOCATION:Vineland Historical & Antiquarian Society Museum 108 S. Seventh Street Vineland\, NJ 08360
UID:e.2963.21926
SEQUENCE:3
DTSTAMP:20260421T101259Z
URL:https://www.vinelandchamber.org/events/details/vineland-historical-antiquarian-society-meet-and-greet-with-dutch-estonian-filmmaker-helga-merits-4-17-26-21926
END:VEVENT

END:VCALENDAR
