BEGIN:VCALENDAR
VERSION:2.0
PRODID:-//ChamberMaster//Event Calendar 2.0//EN
METHOD:PUBLISH
X-PUBLISHED-TTL:P3D
REFRESH-INTERVAL:P3D
CALSCALE:GREGORIAN
BEGIN:VEVENT
DTSTART:20260412T170000Z
DTEND:20260412T200000Z
X-MICROSOFT-CDO-ALLDAYEVENT:FALSE
SUMMARY:Vineland Convention Center - Plan It Expo Bridal Show / 4-12-26
DESCRIPTION:Come to the Vineland Convention Center for the Plan It Expo Wedding Show a premier event designed to inspire\, connect\, and guide couples through every step of their wedding journey.\n\n\n\nExplore a curated selection of the region's top wedding professionals\, including florists\, bakers\, photographers\, planners\, and more. Enjoy live entertainment\, participate in exciting giveaways\, and meet experts ready to help bring your vision to life.\n\n\n\nAttendees will also have the chance to win valuable door prizes\, including gift cards and artwork valued at over $800\, plus the always-popular Cake Dive for a chance to win a wedding ring and honeymoon getaway.\n\n\n\nWhether you're planning a bridal shower\, rehearsal dinner\, ceremony\, or reception\, Planit Expo's dedicated events team will be here to support you every step of the way.
X-ALT-DESC;FMTTYPE=text/html:<br />\n<span style="font-size:20px\;"><span style="font-family:arial\;"><span style="background:white\;"><span style="color:#141827\;">Come to the Vineland Convention Center for the&nbsp\;</span></span><strong data-end="234" data-start="206" style="box-sizing:border-box\;font-variant-ligatures:normal\;font-variant-caps:normal\;orphans:2\;text-align:start\;widows:2\;-webkit-text-stroke-width:0px\;text-decoration-thickness:initial\;text-decoration-style:initial\;word-spacing:0px\;">Plan It Expo Wedding Show</strong><span style="font-variant-ligatures:normal\;font-variant-caps:normal\;orphans:2\;text-align:start\;widows:2\;-webkit-text-stroke-width:0px\;text-decoration-thickness:initial\;text-decoration-style:initial\;float:none\;word-spacing:0px\;">&mdash\;a premier event designed to inspire\, connect\, and guide couples through every step of their wedding journey.<br />\n<br />\nExplore a curated selection of the region&rsquo\;s top wedding professionals\, including florists\, bakers\, photographers\, planners\, and more. Enjoy live entertainment\, participate in exciting giveaways\, and meet experts ready to help bring your vision to life.<br />\n<br />\nAttendees will also have the chance to win valuable door prizes\, including gift cards and artwork valued at over $800\, plus the always-popular Cake Dive for a chance to win a wedding ring and honeymoon getaway.<br />\n<br />\nWhether you&rsquo\;re planning a bridal shower\, rehearsal dinner\, ceremony\, or reception\, Planit Expo&#39\;s dedicated events team will be here to support you every step of the way.</span></span></span>
LOCATION:Vineland Convention Center 631 E. Landis Avenue Vineland\, NJ 08360
UID:e.2963.21716
SEQUENCE:3
DTSTAMP:20260425T182439Z
URL:https://www.vinelandchamber.org/events/details/vineland-convention-center-plan-it-expo-bridal-show-4-12-26-21716
END:VEVENT

END:VCALENDAR
