BEGIN:VCALENDAR
VERSION:2.0
PRODID:-//ChamberMaster//Event Calendar 2.0//EN
METHOD:PUBLISH
X-PUBLISHED-TTL:P3D
REFRESH-INTERVAL:P3D
CALSCALE:GREGORIAN
BEGIN:VEVENT
DTSTART:20260910T220000Z
DTEND:20260910T233000Z
X-MICROSOFT-CDO-ALLDAYEVENT:FALSE
SUMMARY:Vineland Historical & Antiquarian Society - Poetry Potluck @ VHAS / 2nd Thursday of Each Month
DESCRIPTION:Join VHAS at the museum for a monthly gathering of poets and those who want love poetry! Share your original work or a work by your favorite poet in a relaxed and casual atmosphere. Bring a snack to share. VHAS will provide beverages.
X-ALT-DESC;FMTTYPE=text/html:&nbsp\;<strong><span style="color:#008000"><span style="font-family:verdana"><span style="font-size:14px">Join VHAS at the museum for a monthly gathering of poets and those who want love poetry! Share your original work or a work by your favorite poet in a relaxed and casual atmosphere. Bring a snack to share. VHAS will provide beverages.</span></span></span></strong>
LOCATION:Vineland Historical Society 108 S. 7th Street Vineland\, NJ 08360
UID:e.2963.21276
SEQUENCE:3
DTSTAMP:20260425T142738Z
URL:https://www.vinelandchamber.org/events/details/poetry-potluck-vhas-09-10-2026-21276
END:VEVENT

END:VCALENDAR
