BEGIN:VCALENDAR
VERSION:2.0
PRODID:-//ChamberMaster//Event Calendar 2.0//EN
METHOD:PUBLISH
X-PUBLISHED-TTL:P3D
REFRESH-INTERVAL:P3D
CALSCALE:GREGORIAN
BEGIN:VEVENT
DTSTART:20260425T000000Z
DTEND:20260425T015000Z
X-MICROSOFT-CDO-ALLDAYEVENT:FALSE
SUMMARY:Levoy Theatre - Yellow Brick Road – A Tribute to Elton John / 4-24-26
DESCRIPTION:Yellow Brick Road   A Tribute to Elton John\n\nThere is no other performer who looks and sounds so much like Elton John\, nor any tribute act that provides the experience of being at an Elton John concert the way Gerald Brann and Yellow Brick Road do. Brann not only bears an uncanny resemblance to the international superstar   complete with gap-toothed smile and many of his mannerisms   but recreates Elton John's vocals and playing to a tee.\n\nTo capture the essence of the piano man\, Brann dresses in replica costumes and wears Elton's trademark outrageous glasses. A trained jazz pianist\, Brann has been a lifelong Elton John fan\, and his admiration for and love of his music comes shining through as he plays one hit after another with remarkable likeness to the pop music icon. \n\nBrann and his talented five-piece band evoke audience participation throughout the entire show   whether singing along to "Rocket Man" and "Your Song\," swaying to "Candle in the Wind\," or hopping and bopping to "Crocodile Rock."\n\nArtist website: https://www.tributetoeltonjohn.com/
X-ALT-DESC;FMTTYPE=text/html:<p><span style="font-size:20px\;"><span style="font-family:arial\;">Yellow Brick Road &ndash\; A Tribute to Elton John</span></span></p>\n\n<p><span style="font-size:20px\;"><span style="font-family:arial\;">There is no other performer who looks and sounds so much like&nbsp\;Elton John\, nor any tribute act that provides the experience of being at an Elton John concert the way Gerald Brann and&nbsp\;Yellow Brick Road&nbsp\;do. Brann not only bears an uncanny resemblance to the international superstar &mdash\; complete with gap-toothed smile and many of his mannerisms &mdash\; but recreates Elton John&rsquo\;s vocals and playing to a tee.</span></span></p>\n\n<p><span style="font-size:20px\;"><span style="font-family:arial\;">To capture the essence of the piano man\, Brann dresses in replica costumes and wears Elton&rsquo\;s trademark outrageous glasses. A trained jazz pianist\, Brann has been a lifelong Elton John fan\, and his admiration for and love of his music comes shining through as he plays one hit after another with remarkable likeness to the pop music icon. </span></span></p>\n\n<p><span style="font-size:20px\;"><span style="font-family:arial\;">Brann and his talented five-piece band evoke audience participation throughout the entire show &mdash\; whether singing along to&nbsp\;<em>&ldquo\;Rocket Man&rdquo\;</em>&nbsp\;and&nbsp\;<em>&ldquo\;Your Song\,&rdquo\;</em>&nbsp\;swaying to&nbsp\;<em>&ldquo\;Candle in the Wind\,&rdquo\;&nbsp\;</em>or hopping and bopping to&nbsp\;<em>&ldquo\;Crocodile Rock.&rdquo\;</em></span></span></p>\n\n<p><span style="font-size:20px\;"><span style="font-family:arial\;">Artist website:&nbsp\;<a href="https://www.tributetoeltonjohn.com/" rel="noopener" style="box-sizing: border-box\; text-decoration-line: none\; color: rgb(0\, 0\, 0)\; background-color: transparent\;" target="_blank">https://www.tributetoeltonjohn.com/</a></span></span></p>\n
LOCATION:Levoy Theatre
UID:e.2963.21770
SEQUENCE:3
DTSTAMP:20260424T141838Z
URL:https://www.vinelandchamber.org/events/details/levoy-theatre-yellow-brick-road-a-tribute-to-elton-john-4-24-26-21770
END:VEVENT

END:VCALENDAR
