BEGIN:VCALENDAR
VERSION:2.0
PRODID:-//ChamberMaster//Event Calendar 2.0//EN
METHOD:PUBLISH
X-PUBLISHED-TTL:P3D
REFRESH-INTERVAL:P3D
CALSCALE:GREGORIAN
BEGIN:VEVENT
DTSTART:20260426T000000Z
DTEND:20260426T013000Z
X-MICROSOFT-CDO-ALLDAYEVENT:FALSE
SUMMARY:Levoy Theatre - We May Be Right – Billy Joel Tribute / 4-25-26
DESCRIPTION:We May Be Right   Billy Joel Tribute\n\n \n\nPowerhouse ensemble We May Be Right delivers an electrifying performance wowing audiences of all ages as they authentically re-create the music of one the greatest Rock and Roll Keyboard Players\, "Piano Man" Billy Joel.\n\n\n\nA New York City Skyline sets the backdrop with the band delivering hit after hit along with some of Billy's best deep cuts. Night after night We May Be Right brings the audience to their feet and gets them singing along to all of the classics!
X-ALT-DESC;FMTTYPE=text/html:<div><span style="font-size:22px\;"><span style="font-family:arial\;">We May Be Right &ndash\; Billy Joel Tribute</span></span></div>\n\n<div>&nbsp\;</div>\n\n<div><span style="font-size:22px\;"><span style="font-family:arial\;">Powerhouse ensemble&nbsp\;<em>We May Be Right</em>&nbsp\;delivers an electrifying performance wowing audiences of all ages as they authentically re-create the music of one the greatest Rock and Roll Keyboard&nbsp\;Players\, &ldquo\;Piano Man&rdquo\; Billy Joel.</span></span>\n\n<div><br />\n<span style="font-size:22px\;"><span style="font-family:arial\;">A New York City Skyline sets the backdrop with the band delivering hit after hit along with some of Billy&rsquo\;s best deep cuts. Night after night We May Be Right brings the audience to their feet and gets them singing along to all of the classics!</span></span></div>\n</div>\n
LOCATION:Levoy Theatre
UID:e.2963.21781
SEQUENCE:3
DTSTAMP:20260424T142505Z
URL:https://www.vinelandchamber.org/events/details/levoy-theatre-we-may-be-right-billy-joel-tribute-4-25-26-21781
END:VEVENT

END:VCALENDAR
