BEGIN:VCALENDAR
VERSION:2.0
PRODID:-//ChamberMaster//Event Calendar 2.0//EN
METHOD:PUBLISH
X-PUBLISHED-TTL:P3D
REFRESH-INTERVAL:P3D
CALSCALE:GREGORIAN
BEGIN:VEVENT
DTSTART:20260531T000000Z
DTEND:20260531T020000Z
X-MICROSOFT-CDO-ALLDAYEVENT:FALSE
SUMMARY:Levoy Theatre - The E Street Shuffle Presents “Decades: The Battle of the Boss” / 5-30-26
DESCRIPTION:In this hit-filled show\, The E Street Shuffle   Asbury Park's only tribute to Bruce Springsteen   takes a deep dive into the two decades that made Bruce into a living legend   the 1970s and 1980s.\n\n\n\nSplit into two sets\, the first act focuses on Springsteen's '70s output\, performing the most unforgettable tracks from albums like "Born to Run\," "Darkness on the Edge of Town\," "Greetings from Asbury Park\, NJ" and "The Wild\, the Innocent\, &amp\; the E Street Shuffle."\n\n \n\nThe second half of the show pivots to Bruce's '80s material\, a period when the band soared to its biggest heights commercially on the backs of monster stadium rock anthems like "Hungry Heart\," "The River\," "Atlantic City\," "Glory Days\," "Born in the USA\," "Dancing in the Dark\," "Tunnel of Love\," and more.\n\n\n\nFans can expect a night of big hits\, deep cuts\, and fan faves\, each performed with an intensity and sonic accuracy not seen from any other Springsteen tribute anywhere.\n\n \n\nTwo sets. Two Decades. One BIG show!
X-ALT-DESC;FMTTYPE=text/html:<div><b>&nbsp\;</b><span style="font-size:20px\;"><span style="font-family:arial\;">In this hit-filled show\, The E Street Shuffle &mdash\; Asbury Park&rsquo\;s only tribute to Bruce Springsteen &mdash\;&nbsp\;takes a deep dive into the two decades that made Bruce into a living legend &mdash\; the 1970s and&nbsp\;1980s.<br />\n<br />\nSplit into two sets\, the first act focuses on Springsteen&rsquo\;s &rsquo\;70s output\, performing the&nbsp\;most unforgettable tracks from albums like &ldquo\;Born to Run\,&rdquo\; &ldquo\;Darkness on the Edge of Town\,&rdquo\;&nbsp\;&ldquo\;Greetings from Asbury Park\, NJ&rdquo\; and &ldquo\;The Wild\, the Innocent\, &amp\;amp\; the E Street Shuffle.&rdquo\;</span></span></div>\n\n<div>&nbsp\;</div>\n\n<div><span style="font-size:20px\;"><span style="font-family:arial\;">The second half of the show pivots to Bruce&rsquo\;s &#39\;80s material\, a period when the band soared to&nbsp\;its biggest heights commercially on the backs of monster stadium rock anthems like &ldquo\;Hungry&nbsp\;Heart\,&rdquo\; &ldquo\;The River\,&rdquo\; &ldquo\;Atlantic City\,&rdquo\; &ldquo\;Glory Days\,&rdquo\; &ldquo\;Born in the USA\,&rdquo\; &ldquo\;Dancing in the Dark\,&rdquo\;&nbsp\;&ldquo\;Tunnel of Love\,&rdquo\; and more.<br />\n<br />\nFans can expect a night of big hits\, deep cuts\, and fan faves\, each&nbsp\;performed with an intensity and sonic accuracy not seen from any other Springsteen tribute&nbsp\;anywhere.</span></span><br />\n&nbsp\;</div>\n\n<div><span style="font-size:20px\;"><span style="font-family:arial\;"><em>Two sets. Two Decades. One BIG show!</em></span></span></div>\n
LOCATION:Levoy Theatre
UID:e.2963.21845
SEQUENCE:3
DTSTAMP:20260425T164900Z
URL:https://www.vinelandchamber.org/events/details/levoy-theatre-the-e-street-shuffle-presents-decades-the-battle-of-the-boss-5-30-26-21845
END:VEVENT

END:VCALENDAR
