BEGIN:VCALENDAR
VERSION:2.0
PRODID:-//ChamberMaster//Event Calendar 2.0//EN
METHOD:PUBLISH
X-PUBLISHED-TTL:P3D
REFRESH-INTERVAL:P3D
CALSCALE:GREGORIAN
BEGIN:VEVENT
DTSTART:20260515T230000Z
DTEND:20260516T000000Z
X-MICROSOFT-CDO-ALLDAYEVENT:FALSE
SUMMARY:Levoy Theatre - Diary of a Wimpy Kid The Musical / 5-15-26
DESCRIPTION:Diary of a Wimpy Kid The Musical *60-Minute Edition - Student mainstage production*\n\nBook by Kevin del Aguila\n\nMusic and Lyrics by Michael Mahler and Alan Schmuckler\n\n \n\nMiddle school\, ugh. It's the worst. But Greg is determined not to be at the bottom of the popularity chart. He'll leave that to his weird neighbor\, Fregley. Or maybe Greg's best friend\, Rowley Jefferson. But it's not going to be Greg no way.\n\n \n\nJeff Kinney's popular character takes center stage as Greg's cartoon diary becomes a hilarious and heartfelt musical. Will Greg's plans to become popular lead him to sacrifice his one true friend? Can anyone avoid the dreaded Cheese Touch? Grab a hall pass and don't be late for an adventure familiar to anyone who actually survived middle school.\n\n \n\nBased on the "Diary of a Wimpy Kid" Book Series by Jeff Kinney and the 20th Century Studios Films\n\nDiary of a Wimpy Kid is presented by special arrangement with Broadway Licensing Global. www.broadwaylicensing.com\n\n \n\n*The videotaping or audio and/or visual recording of this production is a violation of United States Copyright Law and an actionable federal offense.\n\n\n\nFriday\, May 15 - 7 pm\n\nSaturday\, May 16 - 2 pm\n\nSaturday\, May 16 - 7 pm\n\nSunday\, May 17 - 3 pm
X-ALT-DESC;FMTTYPE=text/html:<div><span style="font-size:20px\;"><span style="font-family:arial\;">Diary of a Wimpy Kid The Musical&nbsp\;<em>*60-Minute Edition - Student mainstage production*</em><br />\nBook by Kevin del Aguila<br />\nMusic and Lyrics by Michael Mahler and Alan Schmuckler</span></span><br />\n&nbsp\;</div>\n\n<div><span style="font-size:20px\;"><span style="font-family:arial\;">Middle school\, ugh. It&rsquo\;s the worst. But Greg is determined not to be at the bottom of the popularity chart. He&rsquo\;ll leave that to his weird neighbor\, Fregley. Or maybe Greg&rsquo\;s best friend\, Rowley Jefferson. But it&rsquo\;s not going to be Greg&hellip\;no way.</span></span><br />\n&nbsp\;</div>\n\n<div><span style="font-size:20px\;"><span style="font-family:arial\;">Jeff Kinney&rsquo\;s popular character takes center stage as Greg&rsquo\;s cartoon diary becomes a hilarious and heartfelt musical. Will Greg&rsquo\;s plans to become popular lead him to sacrifice his one true friend? Can anyone avoid the dreaded Cheese Touch? Grab a hall pass and don&rsquo\;t be late for an adventure familiar to anyone who actually survived middle school.</span></span><br />\n&nbsp\;</div>\n\n<div><span style="font-size:20px\;"><span style="font-family:arial\;">Based on the &ldquo\;Diary of a Wimpy Kid&rdquo\; Book Series by Jeff Kinney and the 20th Century Studios Films<br />\nDiary of a Wimpy Kid is presented by special arrangement with Broadway Licensing Global. www.broadwaylicensing.com</span></span><br />\n&nbsp\;</div>\n\n<div><span style="font-size:20px\;"><span style="font-family:arial\;"><em>*The videotaping or audio and/or visual recording of this production is a violation of United States Copyright Law and an actionable federal offense.</em><br />\n<br />\nFriday\, May 15 - 7 pm<br />\nSaturday\, May 16 - 2 pm<br />\nSaturday\, May 16 - 7 pm<br />\nSunday\, May 17 - 3 pm</span></span></div>\n
LOCATION:Levoy Theatre
UID:e.2963.21832
SEQUENCE:3
DTSTAMP:20260425T164721Z
URL:https://www.vinelandchamber.org/events/details/levoy-theatre-diary-of-a-wimpy-kid-the-musical-5-15-26-21832
END:VEVENT

END:VCALENDAR
