BEGIN:VCALENDAR
VERSION:2.0
PRODID:-//ChamberMaster//Event Calendar 2.0//EN
METHOD:PUBLISH
X-PUBLISHED-TTL:P3D
REFRESH-INTERVAL:P3D
CALSCALE:GREGORIAN
BEGIN:VEVENT
DTSTART:20260807T230000Z
DTEND:20260808T010000Z
X-MICROSOFT-CDO-ALLDAYEVENT:FALSE
SUMMARY:Levoy Theatre - Beautiful: The Carole King Musical / 8-7-16 to 8-16-16
DESCRIPTION:Before she was hit-maker Carole King\, she was Carole Klein\, a spunky\, young songwriter from Brooklyn with a unique voice. From the chart-topping hits she wrote for the biggest acts in music to her own life-changing\, trailblazing success with Tapestry\, Beautiful: The Carole King Musical takes you back to where it all began and takes you on the ride of a lifetime.\n\n \n\nBeautiful is the inspiring tale about a girl who became King with a stirring book by the late Oscar and Tony-nominated Douglas McGrath and the music and lyrics of icons Carole King\, Gerry Goffin\, Barry Mann and Cynthia Weil. Featuring such unforgettable classics as "You've Got a Friend"\, "One Fine Day"\, "So Far Away"\, "Take Good Care of My Baby"\, "Up on the Roof"\, "You've Lost That Lovin' Feeling"\, "Will You Love Me Tomorrow"\, and "Natural Woman"\, this Tony  and Grammy  Award-winning musical phenomenon is filled with the songs you remember and a story you'll never forget.\n\n\n\nBeautiful: The Carole King Musical is presented through special arrangement with Music Theatre International (MTI).\n\n\n\nAll authorized performance materials are also supplied by MTI. www.mtishows.com\n\n*Any video and/or audio recording of this production is strictly prohibited.
X-ALT-DESC;FMTTYPE=text/html:<div><span style="font-size:20px\;"><span style="font-family:arial\;">Before she was hit-maker Carole King\, she was Carole Klein\, a spunky\, young songwriter from Brooklyn with a unique voice. From the chart-topping hits she wrote for the biggest acts in music to her own life-changing\, trailblazing success with Tapestry\, <strong>Beautiful: The Carole King Musical</strong> takes you back to where it all began&mdash\;and takes you on the ride of a lifetime.</span></span><br />\n&nbsp\;</div>\n\n<div><span style="font-size:20px\;"><span style="font-family:arial\;">Beautiful is the inspiring tale about a girl who became King with a stirring book by the late Oscar and Tony-nominated Douglas McGrath and the music and lyrics of icons Carole King\, Gerry Goffin\, Barry Mann and Cynthia Weil. Featuring such unforgettable classics as &quot\;You&#39\;ve Got a Friend&quot\;\, &quot\;One Fine Day&quot\;\, &quot\;So Far Away&quot\;\, &quot\;Take Good Care of My Baby&quot\;\, &quot\;Up on the Roof&quot\;\, &quot\;You&#39\;ve Lost That Lovin&#39\; Feeling&quot\;\, &quot\;Will You Love Me Tomorrow&quot\;\, and &quot\;Natural Woman&quot\;\, this Tony&reg\; and Grammy&reg\; Award-winning musical phenomenon is filled with the songs you remember and a story you&#39\;ll never forget.</span></span></div>\n\n<div><br />\n<span style="font-size:20px\;"><span style="font-family:arial\;">Beautiful: The Carole King Musical is presented through special arrangement with Music Theatre International (MTI).<br />\n<br />\nAll authorized performance materials are also supplied by MTI. www.mtishows.com</span></span></div>\n\n<div><span style="font-size:20px\;"><span style="font-family:arial\;">*Any video and/or audio recording of this production is strictly prohibited.</span></span></div>\n
LOCATION:The Levoy Theatre
UID:e.2963.21853
SEQUENCE:3
DTSTAMP:20260425T124314Z
URL:https://www.vinelandchamber.org/events/details/levoy-theatre-beautiful-the-carole-king-musical-8-7-16-to-8-16-16-21853
END:VEVENT

END:VCALENDAR
