BEGIN:VCALENDAR
VERSION:2.0
PRODID:-//ChamberMaster//Event Calendar 2.0//EN
METHOD:PUBLISH
X-PUBLISHED-TTL:P3D
REFRESH-INTERVAL:P3D
CALSCALE:GREGORIAN
BEGIN:VEVENT
DTSTART:20260917T123000Z
DTEND:20260917T140000Z
X-MICROSOFT-CDO-ALLDAYEVENT:FALSE
SUMMARY:GVCC - State of the County & NJBIA-ELC Meeting / 9-17-26
DESCRIPTION:We are proud to be the Cumberland County Employer Legislative Committee (ELC) coordinator and liaison!  Join us for this meeting with our featured guest speaker\, Cumberland County Board Commissioner Director Sandy Taylor.  "Update on the State of Cumberland County"\n\n\n\nWe will also have a representative from the New Jersey Business & Industry Association (NJBIA) join us to provide a legislative update from Trenton\, and an advocacy update from the Vineland Chamber on the bills we are following that may affect your business.\n\n\n\nThis is a great opportunity for the business community to have their voices heard.  All are welcome to join us - you do not have to be a Vineland Chamber member.  Registration is required - Great event for networking!\n\n\n\nSponsored by Levari Industries
X-ALT-DESC;FMTTYPE=text/html:<br style="color: rgb(51\, 51\, 51)\; font-family: sans-serif\, Arial\, Verdana\, &quot\;Trebuchet MS&quot\;\; font-size: 13px\;" />\n<span style="color: rgb(51\, 51\, 51)\; font-family: sans-serif\, Arial\, Verdana\, &quot\;Trebuchet MS&quot\;\; font-size: 18px\;"><span style="font-family: arial\;">We are proud to be the Cumberland County Employer Legislative Committee (ELC) coordinator and liaison!&nbsp\; Join us for this meeting with our featured guest speaker\, Cumberland County Board Commissioner Director Sandy Taylor.&nbsp\; &quot\;Update on the State of Cumberland County&quot\;<br />\n<br />\nWe will also have a representative from the New Jersey Business &amp\; Industry Association (NJBIA) join us to provide a legislative update from Trenton\, and an advocacy update from the Vineland Chamber on the bills we are following that may affect your business.<br />\n<br />\nThis is a great opportunity for the business community to have their voices heard.&nbsp\; All are welcome to join us - you do not have to be a Vineland Chamber member.&nbsp\; Registration is required - Great event for networking!<br />\n<br />\nSponsored by Levari Industries</span></span><br />\n&nbsp\;
LOCATION:Vintage Hall at BME 1554 South Delsea Drive\, Vineland NJ 08360
UID:e.2963.21755
SEQUENCE:3
DTSTAMP:20260422T192011Z
URL:https://www.vinelandchamber.org/events/details/gvcc-state-of-the-county-njbia-elc-meeting-9-17-26-21755
END:VEVENT

END:VCALENDAR
