BEGIN:VCALENDAR
VERSION:2.0
PRODID:-//ChamberMaster//Event Calendar 2.0//EN
METHOD:PUBLISH
X-PUBLISHED-TTL:P3D
REFRESH-INTERVAL:P3D
CALSCALE:GREGORIAN
BEGIN:VEVENT
DTSTART:20260428T160000Z
DTEND:20260428T170000Z
X-MICROSOFT-CDO-ALLDAYEVENT:FALSE
SUMMARY:GVCC - Ribbon Cutting at Kutting Edge Cleaning / 4-28-26
DESCRIPTION:Join us to celebrate this member's new location with a ribbon cutting ceremony!\n\n\n\nAll are welcome to attend.  No registration required.
X-ALT-DESC;FMTTYPE=text/html:<span style="color:#800080\;"><span style="font-size:20px\;"><span style="font-family:arial\;">Join us to celebrate this member&#39\;s new location with a ribbon cutting ceremony!<br />\n<br />\nAll are welcome to attend.&nbsp\; No registration required.</span></span></span><br />\n<br />\n&nbsp\;
LOCATION:600 G Street\, Suite 218\, Millville NJ 08332
UID:e.2963.21816
SEQUENCE:3
DTSTAMP:20260424T124001Z
URL:https://www.vinelandchamber.org/events/details/gvcc-ribbon-cutting-at-kutting-edge-cleaning-4-28-26-21816
END:VEVENT

END:VCALENDAR
