BEGIN:VCALENDAR
VERSION:2.0
PRODID:-//ChamberMaster//Event Calendar 2.0//EN
METHOD:PUBLISH
X-PUBLISHED-TTL:P3D
REFRESH-INTERVAL:P3D
CALSCALE:GREGORIAN
BEGIN:VEVENT
DTSTART:20260716T123000Z
DTEND:20260716T190000Z
X-MICROSOFT-CDO-ALLDAYEVENT:FALSE
SUMMARY:GVCC - Golf Annual Event / 7-16-26
DESCRIPTION:Join us for the fun at our 36th Annual Golf event!\n\n8:30 am Registration\n\n9:30 am Golf - Shotgun Start\n\n\n\nALL inclusive golfer price of $175 - tournament fees\, breakfast and lunch (grab & go style)\, gifts and lots of chances to win prizes!\n\n\n\nAll are welcome to play -- same price for members & general public.\n\n\n\nA variety of sponsorships are available - click to register to see them
X-ALT-DESC;FMTTYPE=text/html:<span style="font-size:16px\;"><span style="font-family:comic sans ms\;"><span style="font-size:20px\;"><span style="color:#4B0082\;">Join us for the fun at our 36th Annual Golf event!<br />\n8:30 am Registration<br />\n9:30 am Golf - Shotgun Start</span></span></span></span><br />\n<br />\n<span style="font-size:18px\;"><span style="background-color: rgb(255\, 255\, 255)\; color: rgb(0\, 128\, 0)\; font-family: &quot\;comic sans ms&quot\;\;">ALL inclusive golfer price of $175 - tournament fees\, breakfast and lunch (grab &amp\; go style)\, gifts and lots of chances to win prizes!</span><br style="background-color: rgb(255\, 255\, 255)\; color: rgb(0\, 128\, 0)\; font-family: &quot\;comic sans ms&quot\;\; font-size: 16px\;" />\n<br />\n<span style="background-color: rgb(255\, 255\, 255)\; color: rgb(0\, 128\, 0)\; font-family: &quot\;comic sans ms&quot\;\;">All are welcome to play -- same price for members &amp\; general public.<br />\n<br />\nA variety of sponsorships are available - click to register to see them</span></span>
LOCATION:Buena Vista Country Club 301 Country Club Lane\, Buena NJ 08310
UID:e.2963.21796
SEQUENCE:3
DTSTAMP:20260425T122110Z
URL:https://www.vinelandchamber.org/events/details/gvcc-golf-annual-event-7-16-26-21796
END:VEVENT

END:VCALENDAR
