BEGIN:VCALENDAR
VERSION:2.0
PRODID:-//ChamberMaster//Event Calendar 2.0//EN
METHOD:PUBLISH
X-PUBLISHED-TTL:P3D
REFRESH-INTERVAL:P3D
CALSCALE:GREGORIAN
BEGIN:VEVENT
DTSTART:20261216T140000Z
DTEND:20261216T153000Z
X-MICROSOFT-CDO-ALLDAYEVENT:FALSE
SUMMARY:GVCC - Cumb Cty NJBIA Employer Legislative Committee Meeting / 12-16-26
DESCRIPTION:We are proud to be the Cumberland County Employer Legislative Committee (ELC) coordinator and liaison!  Join us for this meeting with our featured guest speaker\, (to be announced).  We will also have a representative from the New Jersey Business & Industry Association (NJBIA) join us to provide a legislative update from Trenton.\n\n\n\nThis is a great opportunity for the business community to have their voices heard.  All are welcome to join us - you do not have to be a Vineland Chamber member.  Registration is required - Great event for networking!\n\n\n\nSponsored by Levari Industries
X-ALT-DESC;FMTTYPE=text/html:<br style="color: rgb(51\, 51\, 51)\; font-family: sans-serif\, Arial\, Verdana\, &quot\;Trebuchet MS&quot\;\; font-size: 13px\;" />\n<span style="color: rgb(51\, 51\, 51)\; font-family: sans-serif\, Arial\, Verdana\, &quot\;Trebuchet MS&quot\;\; font-size: 18px\;"><span style="font-family: arial\;">We are proud to be the Cumberland County Employer Legislative Committee (ELC) coordinator and liaison!&nbsp\; Join us for this meeting with our featured guest speaker\, (to be announced).&nbsp\; We will also have a representative from the New Jersey Business &amp\; Industry Association (NJBIA) join us to provide a legislative update from Trenton.<br />\n<br />\nThis is a great opportunity for the business community to have their voices heard.&nbsp\; All are welcome to join us - you do not have to be a Vineland Chamber member.&nbsp\; Registration is required - Great event for networking!<br />\n<br />\nSponsored by Levari Industries</span></span><br />\n&nbsp\;
LOCATION:Larry's II Restaurant 907 North Main Road\, Vineland NJ 08360
UID:e.2963.21756
SEQUENCE:3
DTSTAMP:20260425T192904Z
URL:https://www.vinelandchamber.org/events/details/gvcc-cumb-cty-njbia-employer-legislative-committee-meeting-12-16-26-21756
END:VEVENT

END:VCALENDAR
