BEGIN:VCALENDAR
VERSION:2.0
PRODID:-//ChamberMaster//Event Calendar 2.0//EN
METHOD:PUBLISH
X-PUBLISHED-TTL:P3D
REFRESH-INTERVAL:P3D
CALSCALE:GREGORIAN
BEGIN:VEVENT
DTSTART:20260512T130000Z
DTEND:20260512T133000Z
X-MICROSOFT-CDO-ALLDAYEVENT:FALSE
SUMMARY:GVCC - Advocacy Group Meeting / 5-12-26
DESCRIPTION:Join us for a lively discussion on legislative bills recently introduced\, new laws passed and other items that affect our business community.  Bring your areas of legislative interest to us!\n\n\n\nRegistration is required to attend
X-ALT-DESC;FMTTYPE=text/html:<br />\n<span style="font-size:20px\;"><span style="font-family:arial\;">Join us for a lively discussion on legislative bills recently introduced\, new laws passed and other items that affect our business community.&nbsp\; Bring your areas of legislative interest to us!<br />\n<br />\nRegistration is required to attend</span></span>
LOCATION:On our Zoom platform The link will be sent to all registered attendees the day before the meeting
UID:e.2963.21602
SEQUENCE:3
DTSTAMP:20260424T153845Z
URL:https://www.vinelandchamber.org/events/details/gvcc-advocacy-group-meeting-5-12-26-21602
END:VEVENT

END:VCALENDAR
