BEGIN:VCALENDAR
VERSION:2.0
PRODID:-//ChamberMaster//Event Calendar 2.0//EN
METHOD:PUBLISH
X-PUBLISHED-TTL:P3D
REFRESH-INTERVAL:P3D
CALSCALE:GREGORIAN
BEGIN:VEVENT
DTSTART:20261114T010000Z
DTEND:20261116T030000Z
X-MICROSOFT-CDO-ALLDAYEVENT:FALSE
SUMMARY:Cumberland Players - The Pillowman / 11-13 through 11-15-26
DESCRIPTION:With echoes of Stoppard\, Kafka and the Brothers Grimm\, The Pillowman centers on a writer in an unnamed totalitarian state who is being interrogated about the gruesome content of his short stories and their similarities to a series of child murders.  The result is an urgent work of theatrical bravura and an unflinching examination of the very nature and purpose of art.\n\n\n\nWritten by Martin McDonagh\, The Pillowman is presented by special arrangement with Concord Theatricals.
X-ALT-DESC;FMTTYPE=text/html:<br />\n<span style="font-size:22px\;"><span style="font-family:arial\;">With echoes of Stoppard\, Kafka and the Brothers Grimm\, The Pillowman centers on a writer in an unnamed totalitarian state who is being interrogated about the gruesome content of his short stories and their similarities to a series of child murders.&nbsp\; The result is an urgent work of theatrical bravura and an unflinching examination of the very nature and purpose of art.<br />\n<br />\nWritten by Martin McDonagh\, The Pillowman is presented by special arrangement with Concord Theatricals.</span></span>
LOCATION:The Little Theatre 66 E. Sherman Avenue Vineland\, NJ 08360
UID:e.2963.21740
SEQUENCE:3
DTSTAMP:20260425T175737Z
URL:https://www.vinelandchamber.org/events/details/cumberland-players-the-pillowman-11-13-through-11-15-26-21740
END:VEVENT

END:VCALENDAR
