BEGIN:VCALENDAR
VERSION:2.0
PRODID:-//ChamberMaster//Event Calendar 2.0//EN
METHOD:PUBLISH
X-PUBLISHED-TTL:P3D
REFRESH-INTERVAL:P3D
CALSCALE:GREGORIAN
BEGIN:VEVENT
DTSTART:20260418T000000Z
DTEND:20260418T020000Z
X-MICROSOFT-CDO-ALLDAYEVENT:FALSE
SUMMARY:Cumberland Players - The Last Five Years / 4-17 through 4-26-26
DESCRIPTION:An emotionally powerful and intimate musical about two people in their twenties who fall in and out of love over the course of five years.  The show's unconventional structure consists of Cathy telling her story backwards while Jamie tells his story chronologically.\n\n\n\nWritten and composed by Jason Robert Brown\, The Last Five Years is a co-production with Cumberland Players and Herrick Theatricals.  It is presented in special arrangement with Music Theatre International (MTI). All authorized performance materials are also supplied by MTI.
X-ALT-DESC;FMTTYPE=text/html:<br />\n<span style="font-size:22px\;"><span style="font-family:arial\;">An emotionally powerful and intimate musical about two people in their twenties who fall in and out of love over the course of five years.&nbsp\; The show&#39\;s unconventional structure consists of Cathy telling her story backwards while Jamie tells his story chronologically.<br />\n<br />\nWritten and composed by Jason Robert Brown\, The Last Five Years is a co-production with Cumberland Players and Herrick Theatricals.&nbsp\; It is presented in special arrangement with Music Theatre International (MTI). All authorized performance materials are also supplied by MTI.</span></span>
LOCATION:The Little Theatre 66 E. Sherman Avenue Vineland\, NJ 08360
UID:e.2963.21736
SEQUENCE:3
DTSTAMP:20260425T182542Z
URL:https://www.vinelandchamber.org/events/details/cumberland-players-the-last-five-years-4-17-through-4-26-26-21736
END:VEVENT

END:VCALENDAR
