BEGIN:VCALENDAR
VERSION:2.0
PRODID:-//ChamberMaster//Event Calendar 2.0//EN
METHOD:PUBLISH
X-PUBLISHED-TTL:P3D
REFRESH-INTERVAL:P3D
CALSCALE:GREGORIAN
BEGIN:VEVENT
DTSTART:20261015T230000Z
DTEND:20261019T010000Z
X-MICROSOFT-CDO-ALLDAYEVENT:FALSE
SUMMARY:Cumberland Players - A Year With Frog & Toad KIDS / 10-15 through 10-18-26
DESCRIPTION:This whimsical show follows two great friends -- the cheerful\, popular Frog and the rather grumpy Toad -- through four fun-filled seasons. Waking from hibernation\, Frog and Toad plant gardens\, swim\, rake leaves\, go sledding and learn life lessons along the way.  Throughout the year\, two best friends celebrate and rejoice in the differences that make them unique and special.\n\n\n\nCreated by Willie and Robert Reale and based on the books by Arnold Lobel\, A Year With Frog and Toad Kids is presented by special arrangement with Music Theatre International (MTI). All authorized performance materials are also supplied by MTI.
X-ALT-DESC;FMTTYPE=text/html:<br />\n<span style="font-size:22px\;"><span style="font-family:arial\;">This whimsical show follows two great friends -- the cheerful\, popular Frog and the rather grumpy Toad -- through four fun-filled seasons. Waking from hibernation\, Frog and Toad plant gardens\, swim\, rake leaves\, go sledding and learn life lessons along the way.&nbsp\; Throughout the year\, two best friends celebrate and rejoice in the differences that make them unique and special.<br />\n<br />\nCreated by Willie and Robert Reale and based on the books by Arnold Lobel\, A Year With Frog and Toad Kids is presented by special arrangement with Music Theatre International (MTI). All authorized performance materials are also supplied by MTI.</span></span>
LOCATION:The Little Theatre 66 E. Sherman Avenue Vineland\, NJ 08360
UID:e.2963.21739
SEQUENCE:3
DTSTAMP:20260425T142901Z
URL:https://www.vinelandchamber.org/events/details/cumberland-players-a-year-with-frog-toad-kids-10-15-through-10-18-26-21739
END:VEVENT

END:VCALENDAR
