BEGIN:VCALENDAR
VERSION:2.0
PRODID:-//ChamberMaster//Event Calendar 2.0//EN
METHOD:PUBLISH
X-PUBLISHED-TTL:P3D
REFRESH-INTERVAL:P3D
CALSCALE:GREGORIAN
BEGIN:VEVENT
DTSTART:20260525T140000Z
DTEND:20260525T160000Z
X-MICROSOFT-CDO-ALLDAYEVENT:FALSE
SUMMARY:City of Vineland - Annual Memorial Day Parade and Ceremony / 5-25-26
DESCRIPTION:Come to Landis Avenue to honor our fallen heroes together as a community during the annual Memorial Day Parade and Ceremony.\n\n\n\nThe parade starts at 10 am and travels down Landis Avenue to Landis Park where the ceremony will take place.  The parade is designed to honor the brave men and women who made the ultimate sacrifice for America and the freedoms we enjoy today.\n\n\n\nAll are welcome to participate.  All vehicles must be street legal with ATV four-wheelers\, dirt bikes and off-road vehicles prohibited from participating. \n\n\n\nFor more information or to register as a participant\, contact Vineland City Special Events coordinator Sheena Santiago at 856-794-4000\, ext. 4169 or e-mail at shsantiago@vinelandcity.org.
X-ALT-DESC;FMTTYPE=text/html:<span style="font-size:20px\;"><span style="font-family:arial\;">Come to Landis Avenue to honor our fallen heroes together as a community during the annual Memorial Day Parade and Ceremony.<br />\n<br />\nThe parade starts at 10 am and travels down Landis Avenue to Landis Park where the ceremony will take place.&nbsp\; The parade is designed to honor the brave men and women who made the ultimate sacrifice for America and the freedoms we enjoy today.<br />\n<br />\nAll are welcome to participate.&nbsp\; All vehicles must be street legal with ATV four-wheelers\, dirt bikes and off-road vehicles prohibited from participating.&nbsp\;<br />\n<br />\nFor more information or to register as a participant\, contact Vineland City Special Events coordinator Sheena Santiago at 856-794-4000\, ext. 4169 or e-mail at shsantiago@vinelandcity.org.</span></span><br />\n&nbsp\;
LOCATION:Landis Avenue Landis Park Vineland\, NJ 08360
UID:e.2963.21847
SEQUENCE:3
DTSTAMP:20260425T164758Z
URL:https://www.vinelandchamber.org/events/details/city-of-vineland-annual-memorial-day-parade-and-ceremony-5-25-26-21847
END:VEVENT

END:VCALENDAR
